BEGIN:VCALENDAR
VERSION:2.0
PRODID:-//Pozvanka//60. narozeniny//CS
CALSCALE:GREGORIAN
METHOD:PUBLISH
BEGIN:VEVENT
UID:60narozeniny-2026@pozvanka
DTSTART:20260516T163000
DTEND:20260516T230000
SUMMARY:Standa Holub 60!!! 🎂
DESCRIPTION: Medlánecký pomrdný slaví kulatiny
LOCATION:Pizza 621\, Hudcova 9/2\, Brno - Medlánky
STATUS:CONFIRMED
TRANSP:OPAQUE
END:VEVENT
END:VCALENDAR

